BEGIN:VCALENDAR
VERSION:2.0
PRODID:-//AHEPA Website - ECPv6.15.15//NONSGML v1.0//EN
CALSCALE:GREGORIAN
METHOD:PUBLISH
X-WR-CALNAME:AHEPA Website
X-ORIGINAL-URL:https://ahepa9.org
X-WR-CALDESC:Events for AHEPA Website
REFRESH-INTERVAL;VALUE=DURATION:PT1H
X-Robots-Tag:noindex
X-PUBLISHED-TTL:PT1H
BEGIN:VTIMEZONE
TZID:UTC
BEGIN:STANDARD
TZOFFSETFROM:+0000
TZOFFSETTO:+0000
TZNAME:UTC
DTSTART:20220101T000000
END:STANDARD
END:VTIMEZONE
BEGIN:VEVENT
DTSTART;TZID=UTC:20231125T200000
DTEND;TZID=UTC:20231126T020000
DTSTAMP:20260421T231224
CREATED:20231019T210854Z
LAST-MODIFIED:20231019T210854Z
UID:27125-1700942400-1700964000@ahepa9.org
SUMMARY:AHEPA Dance
DESCRIPTION:For more details contact ahepanorfolk122@gmail.com
URL:https://ahepa9.org/event/ahepa-dance/
END:VEVENT
BEGIN:VEVENT
DTSTART;TZID=UTC:20231125T200000
DTEND;TZID=UTC:20231126T010000
DTSTAMP:20260421T231224
CREATED:20231107T140706Z
LAST-MODIFIED:20231107T140706Z
UID:27263-1700942400-1700960400@ahepa9.org
SUMMARY:Norfolk AHEPA Chapter 122 Greek Dance
DESCRIPTION:Norfolk AHEPA Chapter 122 Greek Dance at the Annunciation Hellenic Center. Live Music By Apollonia. For more details please contact: Paul Angelson – 757-449-8458 or Andy Kopassis – 757-434-8190
URL:https://ahepa9.org/event/norfolk-ahepa-chapter-122-greek-dance/
END:VEVENT
BEGIN:VEVENT
DTSTART;TZID=UTC:20231123T200000
DTEND;TZID=UTC:20231123T210000
DTSTAMP:20260421T231224
CREATED:20231019T210519Z
LAST-MODIFIED:20231019T210519Z
UID:27117-1700769600-1700773200@ahepa9.org
SUMMARY:IT & Social Media Committee
DESCRIPTION:
URL:https://ahepa9.org/event/it-social-media-committee-2/
END:VEVENT
BEGIN:VEVENT
DTSTART;TZID=UTC:20231120T190000
DTEND;TZID=UTC:20231120T200000
DTSTAMP:20260421T231224
CREATED:20231101T194557Z
LAST-MODIFIED:20231101T194651Z
UID:27226-1700506800-1700510400@ahepa9.org
SUMMARY:Chapter #9: General Meeting
DESCRIPTION:Chapter #9 Fayetteville: General Meeting 7:00pm. Hellenic Center\, 614 Oakridge Ave\, Fayetteville\, NC 28305. (Every Third Monday of the month @ 7pm)
URL:https://ahepa9.org/event/chapter-9-general-meeting/
END:VEVENT
BEGIN:VEVENT
DTSTART;TZID=UTC:20231115T100000
DTEND;TZID=UTC:20231115T200000
DTSTAMP:20260421T231224
CREATED:20231101T194304Z
LAST-MODIFIED:20231101T194304Z
UID:27224-1700042400-1700078400@ahepa9.org
SUMMARY:Chapter #9 Fayetteville: Annual Spaghetti Dinner
DESCRIPTION:(Fayetteville): Chapter #9 Sts. Constantine & Helen Greek Orthodox Church Annual Spaghetti Dinner:10am – 8pm\, 614 Oakridge Ave.\, Fayetteville\, NC 28305. Support and Volunteer!
URL:https://ahepa9.org/event/chapter-9-fayetteville-annual-spaghetti-dinner/
END:VEVENT
BEGIN:VEVENT
DTSTART;TZID=UTC:20231112T133000
DTEND;TZID=UTC:20231112T170000
DTSTAMP:20260421T231224
CREATED:20231101T192132Z
LAST-MODIFIED:20231101T192132Z
UID:27220-1699795800-1699808400@ahepa9.org
SUMMARY:Chapter #30 Veteran’s Day Luncheon at Ikaros Restaurant
DESCRIPTION:(Worthington) Chapter #30 Veteran’s Day Luncheon at Ikaros Restaurant\, 4901 Eastern Ave\, Baltimore\, MD. Starts at 1:30pm. Cash bar and a wonderful selection of entrees – $40. Please RSVP with you dinner choice to: ahepaworthington@gmail.com \n[View Flier]
URL:https://ahepa9.org/event/chapter-30-veterans-day-luncheon-at-ikaros-restaurant/
END:VEVENT
BEGIN:VEVENT
DTSTART;TZID=UTC:20231111T193000
DTEND;TZID=UTC:20231111T233000
DTSTAMP:20260421T231224
CREATED:20231107T140339Z
LAST-MODIFIED:20231107T140339Z
UID:27261-1699731000-1699745400@ahepa9.org
SUMMARY:Kariotiko Annual Dinner Dance 2023
DESCRIPTION:Ikaros Restaurant\, 4901 Eastern Ave\, Baltimore\, MD 21224. Purchase tickets through this link: https://panicarianlefkas.com/dinner-dance-glendi
URL:https://ahepa9.org/event/kariotiko-annual-dinner-dance-2023/
END:VEVENT
BEGIN:VEVENT
DTSTART;TZID=UTC:20231111T190000
DTEND;TZID=UTC:20231111T230000
DTSTAMP:20260421T231224
CREATED:20231019T210748Z
LAST-MODIFIED:20231019T210748Z
UID:27123-1699729200-1699743600@ahepa9.org
SUMMARY:BBQ Roast
DESCRIPTION:Lord Baltimore AHEPA Annual BBQ Roast. Bring all your friends & family to enjoy! \nFor call 443-616-3709 or email info@ahepa364 \n[View Flier]
URL:https://ahepa9.org/event/bbq-roast/
END:VEVENT
BEGIN:VEVENT
DTSTART;TZID=UTC:20231109T193000
DTEND;TZID=UTC:20231109T203000
DTSTAMP:20260421T231224
CREATED:20231101T155205Z
LAST-MODIFIED:20231107T135739Z
UID:27218-1699558200-1699561800@ahepa9.org
SUMMARY:D3 Treasurers Meeting
DESCRIPTION:This Thursday\, November 9th 2023 at 7:30 PM is an online Treasurer’s meeting for all District 3 Chapters’ Treasurers and Officers. If your chapter treasurer cannot make it we ask that an Officer be present on his behalf. Meeting Link is below: \nhttps://meet.google.com/tgn-tudf-uod?hs=224 \nDistrict Treasurer Papaspyrou will be discussing dues payment vehicles(online payments)\, reinstating inactive members\, etc. He will also be available to answer questions.
URL:https://ahepa9.org/event/d3-treasurers-meeting/
END:VEVENT
BEGIN:VEVENT
DTSTART;TZID=UTC:20231107T200000
DTEND;TZID=UTC:20231107T210000
DTSTAMP:20260421T231224
CREATED:20231107T140015Z
LAST-MODIFIED:20231107T140015Z
UID:27259-1699387200-1699390800@ahepa9.org
SUMMARY:IT & Social Media Committee (Reschedule)
DESCRIPTION:
URL:https://ahepa9.org/event/it-social-media-committee-reschedule/
END:VEVENT
BEGIN:VEVENT
DTSTART;TZID=UTC:20231107T190000
DTEND;TZID=UTC:20231107T200000
DTSTAMP:20260421T231224
CREATED:20231106T230631Z
LAST-MODIFIED:20231106T230631Z
UID:27255-1699383600-1699387200@ahepa9.org
SUMMARY:District 3 AHEPA Family & Individual Excellence Meeting
DESCRIPTION:https://us02web.zoom.us/j/86460106688?pwd=WEVJNUFDWGRmNHZWazFlaXV2QnpPUT09 \nMeeting ID: 864 6010 6688 \nPasscode: 991535 \nOr\, dial by your location \n\n+1 301 715 8592 US (Washington DC)
URL:https://ahepa9.org/event/district-3-ahepa-family-individual-excellence-meeting/
END:VEVENT
BEGIN:VEVENT
DTSTART;TZID=UTC:20231104T190000
DTEND;TZID=UTC:20231104T230000
DTSTAMP:20260421T231224
CREATED:20231019T210653Z
LAST-MODIFIED:20231107T135847Z
UID:27121-1699124400-1699138800@ahepa9.org
SUMMARY:Worthington Chapter 100th Anniversary Gala Dinner-Dance
DESCRIPTION:AHEPA Worthington Chapter #30 at Martin’s Valley Mansion. \nTickets – $100\, Raffle tickets – $100 (grand prize 25\,000) Tickets and Raffle tickets on sale now. \nEither purchase after church or contact Brother Bill Bond 410-913-2350 or bondgrp@comcast.net
URL:https://ahepa9.org/event/100th-anniversary-gala-dinner-dance/
END:VEVENT
BEGIN:VEVENT
DTSTART;TZID=UTC:20231102T200000
DTEND;TZID=UTC:20231102T210000
DTSTAMP:20260421T231224
CREATED:20231019T210449Z
LAST-MODIFIED:20231019T210449Z
UID:27115-1698955200-1698958800@ahepa9.org
SUMMARY:IT & Social Media Committee
DESCRIPTION:
URL:https://ahepa9.org/event/it-social-media-committee/
END:VEVENT
BEGIN:VEVENT
DTSTART;TZID=UTC:20231101T190000
DTEND;TZID=UTC:20231101T200000
DTSTAMP:20260421T231224
CREATED:20231101T192535Z
LAST-MODIFIED:20231101T192535Z
UID:27222-1698865200-1698868800@ahepa9.org
SUMMARY:Chapter #30 Meeting
DESCRIPTION:Pappas Restaurant located at 550 Cranbrook Rd\, Cockeysville\, MD
URL:https://ahepa9.org/event/chapter-30-meeting/
END:VEVENT
BEGIN:VEVENT
DTSTART;TZID=UTC:20231028T190000
DTEND;TZID=UTC:20231028T220000
DTSTAMP:20260421T231224
CREATED:20231019T210409Z
LAST-MODIFIED:20231019T210409Z
UID:27113-1698519600-1698530400@ahepa9.org
SUMMARY:AHEPA Wine Tasting
DESCRIPTION:AHEPA Wine Tasting: Sponsored by AHEPA Richmond Chapter #83 at Saints Constantine & Helen Greek Orthodox Cathedral. \n[View Flier]
URL:https://ahepa9.org/event/ahepa-wine-tasting/
END:VEVENT
BEGIN:VEVENT
DTSTART;TZID=UTC:20231028T120000
DTEND;TZID=UTC:20231028T160000
DTSTAMP:20260421T231224
CREATED:20231019T210255Z
LAST-MODIFIED:20231019T210255Z
UID:27111-1698494400-1698508800@ahepa9.org
SUMMARY:Oyster Roast
DESCRIPTION:Order of Ahepa 122 (Norfolk\, VA) Oyster Roast from 12pm – 4pm. For more info contact ahepanorfolk122@gmail.com \n[View Flier]
URL:https://ahepa9.org/event/oyster-roast/
END:VEVENT
BEGIN:VEVENT
DTSTART;TZID=UTC:20231027T190000
DTEND;TZID=UTC:20231027T230000
DTSTAMP:20260421T231224
CREATED:20231019T210112Z
LAST-MODIFIED:20231019T210112Z
UID:27108-1698433200-1698447600@ahepa9.org
SUMMARY:Greek Night
DESCRIPTION:Brought to you by AHEPA Chapter 535 Aegean Defenders. RSVP Paul Gadala 845-313-6429 \n[View Flier]
URL:https://ahepa9.org/event/greek-night/
END:VEVENT
BEGIN:VEVENT
DTSTART;TZID=UTC:20231026T190000
DTEND;TZID=UTC:20231026T200000
DTSTAMP:20260421T231224
CREATED:20231019T205811Z
LAST-MODIFIED:20231019T205811Z
UID:27104-1698346800-1698350400@ahepa9.org
SUMMARY:District Lodge Meeting
DESCRIPTION:
URL:https://ahepa9.org/event/district-lodge-meeting/
END:VEVENT
BEGIN:VEVENT
DTSTART;VALUE=DATE:20231026
DTEND;VALUE=DATE:20231029
DTSTAMP:20260421T231224
CREATED:20231019T205923Z
LAST-MODIFIED:20231019T205923Z
UID:27106-1698278400-1698537599@ahepa9.org
SUMMARY:Newport News Greek Fest
DESCRIPTION:Greek Festival. For more details visit: https://www.newportnewsgreekfestival.org/
URL:https://ahepa9.org/event/newport-news-greek-fest/
END:VEVENT
BEGIN:VEVENT
DTSTART;TZID=UTC:20231019T190000
DTEND;TZID=UTC:20231019T200000
DTSTAMP:20260421T231224
CREATED:20231019T205514Z
LAST-MODIFIED:20231019T205732Z
UID:27099-1697742000-1697745600@ahepa9.org
SUMMARY:Chapter 286 Meeting
DESCRIPTION:AHEPA Chapter #286 Meeting will be at the Double T Diner
URL:https://ahepa9.org/event/ahepa-chapter-286-meeting-at-the-double-t-diner/
END:VEVENT
BEGIN:VEVENT
DTSTART;TZID=UTC:20231019T120000
DTEND;TZID=UTC:20231019T133000
DTSTAMP:20260421T231224
CREATED:20231019T205642Z
LAST-MODIFIED:20231019T205642Z
UID:27101-1697716800-1697722200@ahepa9.org
SUMMARY:Chapter 241 Meeting
DESCRIPTION:Chapter 241(Newport News\, VA) will hold their next meeting on Sunday 12pm – 1:30pm
URL:https://ahepa9.org/event/chapter-241-meeting/
END:VEVENT
END:VCALENDAR